BEGIN:VCALENDAR
VERSION:2.0
PRODID:-//The Women&#039;s Center - ECPv6.15.20//NONSGML v1.0//EN
CALSCALE:GREGORIAN
METHOD:PUBLISH
X-WR-CALNAME:The Women&#039;s Center
X-ORIGINAL-URL:https://thewomenscenter.org
X-WR-CALDESC:Events for The Women&#039;s Center
REFRESH-INTERVAL;VALUE=DURATION:PT1H
X-Robots-Tag:noindex
X-PUBLISHED-TTL:PT1H
BEGIN:VTIMEZONE
TZID:America/New_York
BEGIN:DAYLIGHT
TZOFFSETFROM:-0500
TZOFFSETTO:-0400
TZNAME:EDT
DTSTART:20240310T070000
END:DAYLIGHT
BEGIN:STANDARD
TZOFFSETFROM:-0400
TZOFFSETTO:-0500
TZNAME:EST
DTSTART:20241103T060000
END:STANDARD
BEGIN:DAYLIGHT
TZOFFSETFROM:-0500
TZOFFSETTO:-0400
TZNAME:EDT
DTSTART:20250309T070000
END:DAYLIGHT
BEGIN:STANDARD
TZOFFSETFROM:-0400
TZOFFSETTO:-0500
TZNAME:EST
DTSTART:20251102T060000
END:STANDARD
BEGIN:DAYLIGHT
TZOFFSETFROM:-0500
TZOFFSETTO:-0400
TZNAME:EDT
DTSTART:20260308T070000
END:DAYLIGHT
BEGIN:STANDARD
TZOFFSETFROM:-0400
TZOFFSETTO:-0500
TZNAME:EST
DTSTART:20261101T060000
END:STANDARD
END:VTIMEZONE
BEGIN:VEVENT
DTSTART;TZID=America/New_York:20251023T183000
DTEND;TZID=America/New_York:20251023T200000
DTSTAMP:20260419T100723
CREATED:20250721T213753Z
LAST-MODIFIED:20250902T155429Z
UID:9910-1761244200-1761249600@thewomenscenter.org
SUMMARY:Stand Out and Get Hired!
DESCRIPTION:Find out how to “stand out and get hired” with tips and tricks on the hiring process all the way from application to interview. This class will discuss determining the right time to get a job\, cultivating your resume\, detailing job descriptions and experience\, and preparing for interviews. Through brainstorming about your interests and/or skills\, we’ll suggest possible career paths or job opportunities that match your abilities. Delve into your personal and professional strengths\, accomplishments\, and values while synthesizing your background with organizations’ unique missions. At the end of the session\, you’ll walk away with a concrete framework to maximize your candidacy during the job search. \nAbout the Presenter \nPam Mahone brings over 20 years of experience with Prince William County Public Schools\, where she has honed her skills in professional development and leadership. In this workshop\, Pam will guide you through practical strategies for entering or reentering the workforce\, as well as achieving your next career milestone. Whether you’re seeking a fresh start or a well-deserved promotion\, this session is designed to empower you with the tools and confidence to succeed. \nPLEASE NOTE: WORKSHOP IS IN PERSON AT THE WOMENS CENTER IN VIENNA\, VA
URL:https://thewomenscenter.org/event/stand-out-and-get-hired-3/
LOCATION:The Women’s Center\, 8230 Old Courthouse Rd\, Vienna\, VA\, 22182\, United States
CATEGORIES:Career Counseling,Career Development,Educational,Health & Wellness,Money Management,Personal Growth
END:VEVENT
END:VCALENDAR