BEGIN:VCALENDAR
VERSION:2.0
PRODID:-//The Women&#039;s Center - ECPv6.15.20//NONSGML v1.0//EN
CALSCALE:GREGORIAN
METHOD:PUBLISH
X-WR-CALNAME:The Women&#039;s Center
X-ORIGINAL-URL:https://thewomenscenter.org
X-WR-CALDESC:Events for The Women&#039;s Center
REFRESH-INTERVAL;VALUE=DURATION:PT1H
X-Robots-Tag:noindex
X-PUBLISHED-TTL:PT1H
BEGIN:VTIMEZONE
TZID:America/New_York
BEGIN:DAYLIGHT
TZOFFSETFROM:-0500
TZOFFSETTO:-0400
TZNAME:EDT
DTSTART:20240310T070000
END:DAYLIGHT
BEGIN:STANDARD
TZOFFSETFROM:-0400
TZOFFSETTO:-0500
TZNAME:EST
DTSTART:20241103T060000
END:STANDARD
BEGIN:DAYLIGHT
TZOFFSETFROM:-0500
TZOFFSETTO:-0400
TZNAME:EDT
DTSTART:20250309T070000
END:DAYLIGHT
BEGIN:STANDARD
TZOFFSETFROM:-0400
TZOFFSETTO:-0500
TZNAME:EST
DTSTART:20251102T060000
END:STANDARD
BEGIN:DAYLIGHT
TZOFFSETFROM:-0500
TZOFFSETTO:-0400
TZNAME:EDT
DTSTART:20260308T070000
END:DAYLIGHT
BEGIN:STANDARD
TZOFFSETFROM:-0400
TZOFFSETTO:-0500
TZNAME:EST
DTSTART:20261101T060000
END:STANDARD
END:VTIMEZONE
BEGIN:VEVENT
DTSTART;TZID=America/New_York:20250416T180000
DTEND;TZID=America/New_York:20250416T190000
DTSTAMP:20260420T074104
CREATED:20250321T164540Z
LAST-MODIFIED:20250321T164540Z
UID:9698-1744826400-1744830000@thewomenscenter.org
SUMMARY:Interviewing and Preparation
DESCRIPTION:Practice your interview skills for a virtual or in person setting and gain confidence for the next step in your career. Learn how interviews styles are different for an in-person interview vs a virtual interview. You will be given tips and best practices to prepare you for any interview. The session includes a one-on-one mock interview with feedback. \nPresented by Deloitte. \nPLEASE NOTE: WORKSHOP IS IN PERSON AT THE WOMENS CENTER IN VIENNA\, VA
URL:https://thewomenscenter.org/event/interviewing-and-preparation-3/
LOCATION:The Women’s Center\, 8230 Old Courthouse Rd\, Vienna\, VA\, 22182\, United States
CATEGORIES:Career Counseling,Career Development,Educational,Personal Growth
END:VEVENT
END:VCALENDAR