BEGIN:VCALENDAR
VERSION:2.0
PRODID:-//The Women&#039;s Center - ECPv6.15.20//NONSGML v1.0//EN
CALSCALE:GREGORIAN
METHOD:PUBLISH
X-ORIGINAL-URL:https://thewomenscenter.org
X-WR-CALDESC:Events for The Women&#039;s Center
REFRESH-INTERVAL;VALUE=DURATION:PT1H
X-Robots-Tag:noindex
X-PUBLISHED-TTL:PT1H
BEGIN:VTIMEZONE
TZID:America/New_York
BEGIN:DAYLIGHT
TZOFFSETFROM:-0500
TZOFFSETTO:-0400
TZNAME:EDT
DTSTART:20240310T070000
END:DAYLIGHT
BEGIN:STANDARD
TZOFFSETFROM:-0400
TZOFFSETTO:-0500
TZNAME:EST
DTSTART:20241103T060000
END:STANDARD
BEGIN:DAYLIGHT
TZOFFSETFROM:-0500
TZOFFSETTO:-0400
TZNAME:EDT
DTSTART:20250309T070000
END:DAYLIGHT
BEGIN:STANDARD
TZOFFSETFROM:-0400
TZOFFSETTO:-0500
TZNAME:EST
DTSTART:20251102T060000
END:STANDARD
BEGIN:DAYLIGHT
TZOFFSETFROM:-0500
TZOFFSETTO:-0400
TZNAME:EDT
DTSTART:20260308T070000
END:DAYLIGHT
BEGIN:STANDARD
TZOFFSETFROM:-0400
TZOFFSETTO:-0500
TZNAME:EST
DTSTART:20261101T060000
END:STANDARD
END:VTIMEZONE
BEGIN:VEVENT
DTSTART;TZID=America/New_York:20250313T180000
DTEND;TZID=America/New_York:20250313T193000
DTSTAMP:20260421T090031
CREATED:20250214T220959Z
LAST-MODIFIED:20250214T220959Z
UID:9637-1741888800-1741894200@thewomenscenter.org
SUMMARY:Empowering Career Transitions: A workshop for Federal Employees
DESCRIPTION:The workshop is designed to support federal employees navigating career transitions by providing personalized career counseling\, resume and cover letter development\, and interview preparation. Participants will enhance their job search strategies through effective networking and mastering job search techniques. \nThe session also focuses on fostering resilience and adaptability\, offering emotional support and training to adapt to new work environments. Additionally\, attendees will gain access to valuable resources and tools\, such as workshops\, seminars\, and online platforms\, and are encouraged to pursue continuous learning to stay competitive in the job market. \nThe workshop will also be helpful for those in private sector looking to navigate change \nPLEASE NOTE: T HIS EVENT IS ON ZOOM. LINK IS IN CONFIRMATION EMAIL. \nAbout the Presenter \nMitra Gholam started Alira Consulting\, an executive and leadership consulting firm\, in February 2023 to help others reach their career and business goals and objectives. She is a licensed Executive and Leadership Coach by the Academy of Executive Coaching based in London\, UK and has a global certification through the European Mentoring and Coaching Council. Additionally\, she provides consulting services for individuals and companies looking to solve business problems. \nMitra’s work experience includes over 20 years of working with small business owners with annual revenues over $5 million dollars and as a business manager with a Fortune 1000 Company. Her professional exposure spans across industries and an international client base. She enjoys helping Executives and medium sized business owners solve their business problems. \nAdditional professional work experience has been in Human Resources\, Accounting\, Budget and Finance\, Business Management and Operations\, Change Management\, Strategy and Sales and Marketing.
URL:https://thewomenscenter.org/event/empowering-career-transitions-a-workshop-for-federal-employees/
LOCATION:VA
CATEGORIES:Career Counseling,Career Development,Health & Wellness,Personal Growth
END:VEVENT
END:VCALENDAR